BEGIN:VCALENDAR
VERSION:2.0
PRODID:-//Trenton Neighborhood Initiative - ECPv6.15.15//NONSGML v1.0//EN
CALSCALE:GREGORIAN
METHOD:PUBLISH
X-ORIGINAL-URL:https://tnitrenton.org
X-WR-CALDESC:Events for Trenton Neighborhood Initiative
REFRESH-INTERVAL;VALUE=DURATION:PT1H
X-Robots-Tag:noindex
X-PUBLISHED-TTL:PT1H
BEGIN:VTIMEZONE
TZID:America/New_York
BEGIN:DAYLIGHT
TZOFFSETFROM:-0500
TZOFFSETTO:-0400
TZNAME:EDT
DTSTART:20240310T070000
END:DAYLIGHT
BEGIN:STANDARD
TZOFFSETFROM:-0400
TZOFFSETTO:-0500
TZNAME:EST
DTSTART:20241103T060000
END:STANDARD
BEGIN:DAYLIGHT
TZOFFSETFROM:-0500
TZOFFSETTO:-0400
TZNAME:EDT
DTSTART:20250309T070000
END:DAYLIGHT
BEGIN:STANDARD
TZOFFSETFROM:-0400
TZOFFSETTO:-0500
TZNAME:EST
DTSTART:20251102T060000
END:STANDARD
BEGIN:DAYLIGHT
TZOFFSETFROM:-0500
TZOFFSETTO:-0400
TZNAME:EDT
DTSTART:20260308T070000
END:DAYLIGHT
BEGIN:STANDARD
TZOFFSETFROM:-0400
TZOFFSETTO:-0500
TZNAME:EST
DTSTART:20261101T060000
END:STANDARD
BEGIN:DAYLIGHT
TZOFFSETFROM:-0500
TZOFFSETTO:-0400
TZNAME:EDT
DTSTART:20270314T070000
END:DAYLIGHT
BEGIN:STANDARD
TZOFFSETFROM:-0400
TZOFFSETTO:-0500
TZNAME:EST
DTSTART:20271107T060000
END:STANDARD
END:VTIMEZONE
BEGIN:VEVENT
DTSTART;TZID=America/New_York:20251127T173000
DTEND;TZID=America/New_York:20251127T190000
DTSTAMP:20260421T095705
CREATED:20250128T140625Z
LAST-MODIFIED:20250207T193338Z
UID:10000046-1764264600-1764270000@tnitrenton.org
SUMMARY:Weekly Workshops for Local Businesses
DESCRIPTION:Calling all business owners in the Greater Trenton Area! Our TNI team will be hosting FREE weekly workshops to connect local entrepreneurs to helpful resources\, knowledge\, and opportunities. Registration is required for all sessions. Please RSVP here. \n\n 
URL:https://tnitrenton.org/event/weekly-workshops-for-local-businesses/2025-11-27/
LOCATION:NJ
ATTACH;FMTTYPE=image/jpeg:https://tnitrenton.org/wp-content/uploads/2025/01/shutterstock_2078309413.jpg
END:VEVENT
BEGIN:VEVENT
DTSTART;TZID=America/New_York:20251204T173000
DTEND;TZID=America/New_York:20251204T190000
DTSTAMP:20260421T095705
CREATED:20250128T140625Z
LAST-MODIFIED:20250207T193338Z
UID:10000047-1764869400-1764874800@tnitrenton.org
SUMMARY:Weekly Workshops for Local Businesses
DESCRIPTION:Calling all business owners in the Greater Trenton Area! Our TNI team will be hosting FREE weekly workshops to connect local entrepreneurs to helpful resources\, knowledge\, and opportunities. Registration is required for all sessions. Please RSVP here. \n\n 
URL:https://tnitrenton.org/event/weekly-workshops-for-local-businesses/2025-12-04/
LOCATION:NJ
ATTACH;FMTTYPE=image/jpeg:https://tnitrenton.org/wp-content/uploads/2025/01/shutterstock_2078309413.jpg
END:VEVENT
BEGIN:VEVENT
DTSTART;TZID=America/New_York:20251211T173000
DTEND;TZID=America/New_York:20251211T190000
DTSTAMP:20260421T095705
CREATED:20250128T140625Z
LAST-MODIFIED:20250207T193338Z
UID:10000048-1765474200-1765479600@tnitrenton.org
SUMMARY:Weekly Workshops for Local Businesses
DESCRIPTION:Calling all business owners in the Greater Trenton Area! Our TNI team will be hosting FREE weekly workshops to connect local entrepreneurs to helpful resources\, knowledge\, and opportunities. Registration is required for all sessions. Please RSVP here. \n\n 
URL:https://tnitrenton.org/event/weekly-workshops-for-local-businesses/2025-12-11/
LOCATION:NJ
ATTACH;FMTTYPE=image/jpeg:https://tnitrenton.org/wp-content/uploads/2025/01/shutterstock_2078309413.jpg
END:VEVENT
BEGIN:VEVENT
DTSTART;TZID=America/New_York:20251218T173000
DTEND;TZID=America/New_York:20251218T190000
DTSTAMP:20260421T095705
CREATED:20250128T140625Z
LAST-MODIFIED:20250207T193338Z
UID:10000049-1766079000-1766084400@tnitrenton.org
SUMMARY:Weekly Workshops for Local Businesses
DESCRIPTION:Calling all business owners in the Greater Trenton Area! Our TNI team will be hosting FREE weekly workshops to connect local entrepreneurs to helpful resources\, knowledge\, and opportunities. Registration is required for all sessions. Please RSVP here. \n\n 
URL:https://tnitrenton.org/event/weekly-workshops-for-local-businesses/2025-12-18/
LOCATION:NJ
ATTACH;FMTTYPE=image/jpeg:https://tnitrenton.org/wp-content/uploads/2025/01/shutterstock_2078309413.jpg
END:VEVENT
BEGIN:VEVENT
DTSTART;TZID=America/New_York:20251225T173000
DTEND;TZID=America/New_York:20251225T190000
DTSTAMP:20260421T095705
CREATED:20250128T140625Z
LAST-MODIFIED:20250207T193338Z
UID:10000050-1766683800-1766689200@tnitrenton.org
SUMMARY:Weekly Workshops for Local Businesses
DESCRIPTION:Calling all business owners in the Greater Trenton Area! Our TNI team will be hosting FREE weekly workshops to connect local entrepreneurs to helpful resources\, knowledge\, and opportunities. Registration is required for all sessions. Please RSVP here. \n\n 
URL:https://tnitrenton.org/event/weekly-workshops-for-local-businesses/2025-12-25/
LOCATION:NJ
ATTACH;FMTTYPE=image/jpeg:https://tnitrenton.org/wp-content/uploads/2025/01/shutterstock_2078309413.jpg
END:VEVENT
BEGIN:VEVENT
DTSTART;TZID=America/New_York:20260101T173000
DTEND;TZID=America/New_York:20260101T190000
DTSTAMP:20260421T095705
CREATED:20250128T140625Z
LAST-MODIFIED:20250207T193338Z
UID:10000051-1767288600-1767294000@tnitrenton.org
SUMMARY:Weekly Workshops for Local Businesses
DESCRIPTION:Calling all business owners in the Greater Trenton Area! Our TNI team will be hosting FREE weekly workshops to connect local entrepreneurs to helpful resources\, knowledge\, and opportunities. Registration is required for all sessions. Please RSVP here. \n\n 
URL:https://tnitrenton.org/event/weekly-workshops-for-local-businesses/2026-01-01/
LOCATION:NJ
ATTACH;FMTTYPE=image/jpeg:https://tnitrenton.org/wp-content/uploads/2025/01/shutterstock_2078309413.jpg
END:VEVENT
BEGIN:VEVENT
DTSTART;TZID=America/New_York:20260108T173000
DTEND;TZID=America/New_York:20260108T190000
DTSTAMP:20260421T095705
CREATED:20250128T140625Z
LAST-MODIFIED:20250207T193338Z
UID:10000052-1767893400-1767898800@tnitrenton.org
SUMMARY:Weekly Workshops for Local Businesses
DESCRIPTION:Calling all business owners in the Greater Trenton Area! Our TNI team will be hosting FREE weekly workshops to connect local entrepreneurs to helpful resources\, knowledge\, and opportunities. Registration is required for all sessions. Please RSVP here. \n\n 
URL:https://tnitrenton.org/event/weekly-workshops-for-local-businesses/2026-01-08/
LOCATION:NJ
ATTACH;FMTTYPE=image/jpeg:https://tnitrenton.org/wp-content/uploads/2025/01/shutterstock_2078309413.jpg
END:VEVENT
BEGIN:VEVENT
DTSTART;TZID=America/New_York:20260115T173000
DTEND;TZID=America/New_York:20260115T190000
DTSTAMP:20260421T095705
CREATED:20250128T140625Z
LAST-MODIFIED:20250207T193338Z
UID:10000053-1768498200-1768503600@tnitrenton.org
SUMMARY:Weekly Workshops for Local Businesses
DESCRIPTION:Calling all business owners in the Greater Trenton Area! Our TNI team will be hosting FREE weekly workshops to connect local entrepreneurs to helpful resources\, knowledge\, and opportunities. Registration is required for all sessions. Please RSVP here. \n\n 
URL:https://tnitrenton.org/event/weekly-workshops-for-local-businesses/2026-01-15/
LOCATION:NJ
ATTACH;FMTTYPE=image/jpeg:https://tnitrenton.org/wp-content/uploads/2025/01/shutterstock_2078309413.jpg
END:VEVENT
BEGIN:VEVENT
DTSTART;TZID=America/New_York:20260122T173000
DTEND;TZID=America/New_York:20260122T190000
DTSTAMP:20260421T095705
CREATED:20250128T140625Z
LAST-MODIFIED:20250207T193338Z
UID:10000054-1769103000-1769108400@tnitrenton.org
SUMMARY:Weekly Workshops for Local Businesses
DESCRIPTION:Calling all business owners in the Greater Trenton Area! Our TNI team will be hosting FREE weekly workshops to connect local entrepreneurs to helpful resources\, knowledge\, and opportunities. Registration is required for all sessions. Please RSVP here. \n\n 
URL:https://tnitrenton.org/event/weekly-workshops-for-local-businesses/2026-01-22/
LOCATION:NJ
ATTACH;FMTTYPE=image/jpeg:https://tnitrenton.org/wp-content/uploads/2025/01/shutterstock_2078309413.jpg
END:VEVENT
BEGIN:VEVENT
DTSTART;TZID=America/New_York:20260129T173000
DTEND;TZID=America/New_York:20260129T190000
DTSTAMP:20260421T095705
CREATED:20250128T140625Z
LAST-MODIFIED:20250207T193338Z
UID:10000055-1769707800-1769713200@tnitrenton.org
SUMMARY:Weekly Workshops for Local Businesses
DESCRIPTION:Calling all business owners in the Greater Trenton Area! Our TNI team will be hosting FREE weekly workshops to connect local entrepreneurs to helpful resources\, knowledge\, and opportunities. Registration is required for all sessions. Please RSVP here. \n\n 
URL:https://tnitrenton.org/event/weekly-workshops-for-local-businesses/2026-01-29/
LOCATION:NJ
ATTACH;FMTTYPE=image/jpeg:https://tnitrenton.org/wp-content/uploads/2025/01/shutterstock_2078309413.jpg
END:VEVENT
BEGIN:VEVENT
DTSTART;TZID=America/New_York:20260205T173000
DTEND;TZID=America/New_York:20260205T190000
DTSTAMP:20260421T095705
CREATED:20250128T140625Z
LAST-MODIFIED:20250207T193338Z
UID:10000056-1770312600-1770318000@tnitrenton.org
SUMMARY:Weekly Workshops for Local Businesses
DESCRIPTION:Calling all business owners in the Greater Trenton Area! Our TNI team will be hosting FREE weekly workshops to connect local entrepreneurs to helpful resources\, knowledge\, and opportunities. Registration is required for all sessions. Please RSVP here. \n\n 
URL:https://tnitrenton.org/event/weekly-workshops-for-local-businesses/2026-02-05/
LOCATION:NJ
ATTACH;FMTTYPE=image/jpeg:https://tnitrenton.org/wp-content/uploads/2025/01/shutterstock_2078309413.jpg
END:VEVENT
BEGIN:VEVENT
DTSTART;TZID=America/New_York:20260212T173000
DTEND;TZID=America/New_York:20260212T190000
DTSTAMP:20260421T095705
CREATED:20250128T140625Z
LAST-MODIFIED:20250207T193338Z
UID:10000057-1770917400-1770922800@tnitrenton.org
SUMMARY:Weekly Workshops for Local Businesses
DESCRIPTION:Calling all business owners in the Greater Trenton Area! Our TNI team will be hosting FREE weekly workshops to connect local entrepreneurs to helpful resources\, knowledge\, and opportunities. Registration is required for all sessions. Please RSVP here. \n\n 
URL:https://tnitrenton.org/event/weekly-workshops-for-local-businesses/2026-02-12/
LOCATION:NJ
ATTACH;FMTTYPE=image/jpeg:https://tnitrenton.org/wp-content/uploads/2025/01/shutterstock_2078309413.jpg
END:VEVENT
BEGIN:VEVENT
DTSTART;TZID=America/New_York:20260219T173000
DTEND;TZID=America/New_York:20260219T190000
DTSTAMP:20260421T095705
CREATED:20250128T140625Z
LAST-MODIFIED:20250207T193338Z
UID:10000058-1771522200-1771527600@tnitrenton.org
SUMMARY:Weekly Workshops for Local Businesses
DESCRIPTION:Calling all business owners in the Greater Trenton Area! Our TNI team will be hosting FREE weekly workshops to connect local entrepreneurs to helpful resources\, knowledge\, and opportunities. Registration is required for all sessions. Please RSVP here. \n\n 
URL:https://tnitrenton.org/event/weekly-workshops-for-local-businesses/2026-02-19/
LOCATION:NJ
ATTACH;FMTTYPE=image/jpeg:https://tnitrenton.org/wp-content/uploads/2025/01/shutterstock_2078309413.jpg
END:VEVENT
BEGIN:VEVENT
DTSTART;TZID=America/New_York:20260226T173000
DTEND;TZID=America/New_York:20260226T190000
DTSTAMP:20260421T095705
CREATED:20250128T140625Z
LAST-MODIFIED:20250207T193338Z
UID:10000059-1772127000-1772132400@tnitrenton.org
SUMMARY:Weekly Workshops for Local Businesses
DESCRIPTION:Calling all business owners in the Greater Trenton Area! Our TNI team will be hosting FREE weekly workshops to connect local entrepreneurs to helpful resources\, knowledge\, and opportunities. Registration is required for all sessions. Please RSVP here. \n\n 
URL:https://tnitrenton.org/event/weekly-workshops-for-local-businesses/2026-02-26/
LOCATION:NJ
ATTACH;FMTTYPE=image/jpeg:https://tnitrenton.org/wp-content/uploads/2025/01/shutterstock_2078309413.jpg
END:VEVENT
BEGIN:VEVENT
DTSTART;TZID=America/New_York:20260305T173000
DTEND;TZID=America/New_York:20260305T190000
DTSTAMP:20260421T095705
CREATED:20250128T140625Z
LAST-MODIFIED:20250207T193338Z
UID:10000060-1772731800-1772737200@tnitrenton.org
SUMMARY:Weekly Workshops for Local Businesses
DESCRIPTION:Calling all business owners in the Greater Trenton Area! Our TNI team will be hosting FREE weekly workshops to connect local entrepreneurs to helpful resources\, knowledge\, and opportunities. Registration is required for all sessions. Please RSVP here. \n\n 
URL:https://tnitrenton.org/event/weekly-workshops-for-local-businesses/2026-03-05/
LOCATION:NJ
ATTACH;FMTTYPE=image/jpeg:https://tnitrenton.org/wp-content/uploads/2025/01/shutterstock_2078309413.jpg
END:VEVENT
END:VCALENDAR